BEGIN:VCALENDAR
VERSION:2.0
PRODID:-//Tommy Mesa - ECPv6.15.20//NONSGML v1.0//EN
CALSCALE:GREGORIAN
METHOD:PUBLISH
X-ORIGINAL-URL:https://tommymesa.com
X-WR-CALDESC:Events for Tommy Mesa
REFRESH-INTERVAL;VALUE=DURATION:PT1H
X-Robots-Tag:noindex
X-PUBLISHED-TTL:PT1H
BEGIN:VTIMEZONE
TZID:America/Los_Angeles
BEGIN:DAYLIGHT
TZOFFSETFROM:-0800
TZOFFSETTO:-0700
TZNAME:PDT
DTSTART:20240310T100000
END:DAYLIGHT
BEGIN:STANDARD
TZOFFSETFROM:-0700
TZOFFSETTO:-0800
TZNAME:PST
DTSTART:20241103T090000
END:STANDARD
BEGIN:DAYLIGHT
TZOFFSETFROM:-0800
TZOFFSETTO:-0700
TZNAME:PDT
DTSTART:20250309T100000
END:DAYLIGHT
BEGIN:STANDARD
TZOFFSETFROM:-0700
TZOFFSETTO:-0800
TZNAME:PST
DTSTART:20251102T090000
END:STANDARD
BEGIN:DAYLIGHT
TZOFFSETFROM:-0800
TZOFFSETTO:-0700
TZNAME:PDT
DTSTART:20260308T100000
END:DAYLIGHT
BEGIN:STANDARD
TZOFFSETFROM:-0700
TZOFFSETTO:-0800
TZNAME:PST
DTSTART:20261101T090000
END:STANDARD
END:VTIMEZONE
BEGIN:VEVENT
DTSTART;TZID=America/Los_Angeles:20250105T150000
DTEND;TZID=America/Los_Angeles:20250105T170000
DTSTAMP:20260423T191906
CREATED:20240731T150953Z
LAST-MODIFIED:20240801T214221Z
UID:3397-1736089200-1736096400@tommymesa.com
SUMMARY:Tri-County Concerts
DESCRIPTION:Tommy Mesa\, cello / Ilya Yakushev\, piano / program TBD
URL:https://tommymesa.com/event/tri-county-concerts/
ATTACH;FMTTYPE=image/jpeg:https://tommymesa.com/wp-content/uploads/2024/07/tri-county.jpeg
END:VEVENT
BEGIN:VEVENT
DTSTART;TZID=America/Los_Angeles:20250112T160000
DTEND;TZID=America/Los_Angeles:20250112T180000
DTSTAMP:20260423T191906
CREATED:20240731T151616Z
LAST-MODIFIED:20240801T221623Z
UID:3400-1736697600-1736704800@tommymesa.com
SUMMARY:Impromptu Classical Concert in Key West
DESCRIPTION:Tommy Mesa\, cellist / Greg Zelek\, organist
URL:https://tommymesa.com/event/impromptu-classical-concert-in-key-west/
LOCATION:St. Paul’s Episcopal Church\, 401 Duval St.\, Key West\, FL\, 33040\, United States
ATTACH;FMTTYPE=image/png:https://tommymesa.com/wp-content/uploads/2024/07/impromptu-key-west.png
END:VEVENT
BEGIN:VEVENT
DTSTART;VALUE=DATE:20250119
DTEND;VALUE=DATE:20250120
DTSTAMP:20260423T191906
CREATED:20240731T152137Z
LAST-MODIFIED:20240801T212928Z
UID:3404-1737244800-1737331199@tommymesa.com
SUMMARY:The Phillips Collection Recital
DESCRIPTION:Tommy Mesa\, cello / Yoon Lee\, piano / Nadia Boulanger: 3 pieces for cello and piano / Joel Friedman: Pas de Deux / Rachmaninoff: Sonata for cello and piano in G minor\, Op. 19
URL:https://tommymesa.com/event/the-phillips-collection-recital/
LOCATION:The Phillips Collection Music Room\, 1600 21st St NW\, Washington D.C.\, 20009\, United States
ATTACH;FMTTYPE=image/png:https://tommymesa.com/wp-content/uploads/2024/07/phillips.png
END:VEVENT
BEGIN:VEVENT
DTSTART;TZID=America/Los_Angeles:20250120T193000
DTEND;TZID=America/Los_Angeles:20250120T213000
DTSTAMP:20260423T191906
CREATED:20240731T152724Z
LAST-MODIFIED:20240801T212426Z
UID:3408-1737401400-1737408600@tommymesa.com
SUMMARY:Chamber Music Pittsburgh
DESCRIPTION:Maintage Series Recital / Tommy Mesa\, cello / Michelle Cann\, pianist: \nNadia Boulanger  3 Pieces for Cello and Piano / \nAndrea Casarrubios  Mensajes del agua / \nClaude Debussy  Sonata in D minor / \nKevin Day  Sonata for Cello and Piano / \nNikolai Kapustin  Elegy / \nDmitri Shostakovich  Cello Sonata in D minor\, Op. 40 
URL:https://tommymesa.com/event/chamber-music-pittsburgh-2/
LOCATION:PNC Theatre\, 350 Forbes Ave.\, Pittsburgh\, PA\, 15222\, United States
ATTACH;FMTTYPE=image/png:https://tommymesa.com/wp-content/uploads/2024/07/michelle.png
END:VEVENT
BEGIN:VEVENT
DTSTART;TZID=America/Los_Angeles:20250123T193000
DTEND;TZID=America/Los_Angeles:20250123T213000
DTSTAMP:20260423T191906
CREATED:20240731T153142Z
LAST-MODIFIED:20240801T212248Z
UID:3412-1737660600-1737667800@tommymesa.com
SUMMARY:University of Southern Mississippi
DESCRIPTION:Recital works for cello and piano / Tommy Mesa\, cello / Yoon Lee\, piano
URL:https://tommymesa.com/event/university-of-southern-mississippi/
LOCATION:Marsh Auditorium\, 111 Southern Drive\, Hattiesburg\, MS\, 39406\, United States
ATTACH;FMTTYPE=image/jpeg:https://tommymesa.com/wp-content/uploads/2024/07/mississippi.jpeg
END:VEVENT
BEGIN:VEVENT
DTSTART;TZID=America/Los_Angeles:20250126T160000
DTEND;TZID=America/Los_Angeles:20250126T180000
DTSTAMP:20260423T191906
CREATED:20240731T153711Z
LAST-MODIFIED:20240731T153711Z
UID:3416-1737907200-1737914400@tommymesa.com
SUMMARY:Schubert Club Recital
DESCRIPTION:NADIA BOULANGER\n3 Pieces for Cello and Piano / \nCLAUDE DEBUSSY\nSonata in D Minor / \nKEVIN DAY\nSonata for Cello and Piano / \nANDREA CASARRUBIOS\nMensajes del agua / \nDIMITRI SHOSTAKOVICH\nCello Sonata in D minor\, Op. 40
URL:https://tommymesa.com/event/schubert-club-recital/
LOCATION:Saint Anthony Park United Church of Chris\, 2129 Commonwealth Avenue\, St. Paul\, MN\, 55108\, United States
ATTACH;FMTTYPE=image/jpeg:https://tommymesa.com/wp-content/uploads/2024/07/michelle-schuber.jpeg
END:VEVENT
BEGIN:VEVENT
DTSTART;TZID=America/Los_Angeles:20250131T193000
DTEND;TZID=America/Los_Angeles:20250131T213000
DTSTAMP:20260423T191906
CREATED:20240801T022123Z
LAST-MODIFIED:20240801T211537Z
UID:3434-1738351800-1738359000@tommymesa.com
SUMMARY:Lane Series at the University of Vermont
DESCRIPTION:Tommy Mesa\, cello / Michelle Cann\, piano / Robert Schumann: Fantasiestücke\, Op. 73 / Beethoven: Sonata No. 3 in A major\, Op. 69 / Rachmaninoff: Sonata for cello and piano in G minor\, Op. 19
URL:https://tommymesa.com/event/lane-series-at-the-university-of-vermont/
LOCATION:University of Vermont Recital Hall\, 392 S. Prospect St.\, Burlington\, VT\, 05405\, United States
ATTACH;FMTTYPE=image/jpeg:https://tommymesa.com/wp-content/uploads/2024/07/lane-series.jpeg
END:VEVENT
END:VCALENDAR