BEGIN:VCALENDAR
VERSION:2.0
PRODID:-//Tommy Mesa - ECPv6.15.20//NONSGML v1.0//EN
CALSCALE:GREGORIAN
METHOD:PUBLISH
X-WR-CALNAME:Tommy Mesa
X-ORIGINAL-URL:https://tommymesa.com
X-WR-CALDESC:Events for Tommy Mesa
REFRESH-INTERVAL;VALUE=DURATION:PT1H
X-Robots-Tag:noindex
X-PUBLISHED-TTL:PT1H
BEGIN:VTIMEZONE
TZID:America/Los_Angeles
BEGIN:DAYLIGHT
TZOFFSETFROM:-0800
TZOFFSETTO:-0700
TZNAME:PDT
DTSTART:20230312T100000
END:DAYLIGHT
BEGIN:STANDARD
TZOFFSETFROM:-0700
TZOFFSETTO:-0800
TZNAME:PST
DTSTART:20231105T090000
END:STANDARD
BEGIN:DAYLIGHT
TZOFFSETFROM:-0800
TZOFFSETTO:-0700
TZNAME:PDT
DTSTART:20240310T100000
END:DAYLIGHT
BEGIN:STANDARD
TZOFFSETFROM:-0700
TZOFFSETTO:-0800
TZNAME:PST
DTSTART:20241103T090000
END:STANDARD
BEGIN:DAYLIGHT
TZOFFSETFROM:-0800
TZOFFSETTO:-0700
TZNAME:PDT
DTSTART:20250309T100000
END:DAYLIGHT
BEGIN:STANDARD
TZOFFSETFROM:-0700
TZOFFSETTO:-0800
TZNAME:PST
DTSTART:20251102T090000
END:STANDARD
END:VTIMEZONE
BEGIN:VEVENT
DTSTART;TZID=America/Los_Angeles:20241206T193000
DTEND;TZID=America/Los_Angeles:20241206T210000
DTSTAMP:20260423T174517
CREATED:20240825T170245Z
LAST-MODIFIED:20240825T170245Z
UID:3567-1733513400-1733518800@tommymesa.com
SUMMARY:American Composers Orchestra @ Brooklyn Academy of Music
DESCRIPTION:Tommy Mesa\, cello; Austin Wintory\, conductor; Dan Visconti\, composer \nAmerican Composers Orchestra ——- \nNever the same each time it is played\, Journey LIVE is an interactive parable\, marking an unprecedented formal exploration in which live musicians respond to the actions of video game players—in real time—on stage. In this alchemical collision of mediums\, BAM teams up with cellist Tommy Mesa\, composer/conductor Austin Wintory\, composer Dan Visconti\, American Composers Orchestra\, and Ode to Joy to present an original\, interactive live performance of the Grammy-nominated score of Journey\, “the most beautiful game of its time” (IGN).
URL:https://tommymesa.com/event/american-composers-orchestra-brooklyn-academy-of-music/
LOCATION:Brooklyn Academy of Music\, 30 Lafayette Ave\, Brooklyn\, NY\, 11217\, United States
ATTACH;FMTTYPE=image/png:https://tommymesa.com/wp-content/uploads/2024/08/american-composers-orchestra_processed_689dea39c4f7fbe8833232cd5b84baa63a8cab9a0f888788dffb567284afa447_logo.png
END:VEVENT
BEGIN:VEVENT
DTSTART;TZID=America/Los_Angeles:20241207T143000
DTEND;TZID=America/Los_Angeles:20241207T160000
DTSTAMP:20260423T174517
CREATED:20240825T170433Z
LAST-MODIFIED:20240825T170433Z
UID:3571-1733581800-1733587200@tommymesa.com
SUMMARY:American Composer Orchestra @ Brooklyn Academy of Music
DESCRIPTION:Tommy Mesa\, cello; Austin Wintory\, conductor; Dan Visconti\, composer; \nAmerican Composers Orchestra ——- \nNever the same each time it is played\, Journey LIVE is an interactive parable\, marking an unprecedented formal exploration in which live musicians respond to the actions of video game players—in real time—on stage. In this alchemical collision of mediums\, BAM teams up with cellist Tommy Mesa\, composer/conductor Austin Wintory\, composer Dan Visconti\, American Composers Orchestra\, and Ode to Joy to present an original\, interactive live performance of the Grammy-nominated score of Journey\, “the most beautiful game of its time” (IGN).
URL:https://tommymesa.com/event/american-composer-orchestra-brooklyn-academy-of-music/
LOCATION:Brooklyn Academy of Music\, 30 Lafayette Ave\, Brooklyn\, NY\, 11217\, United States
ATTACH;FMTTYPE=image/png:https://tommymesa.com/wp-content/uploads/2024/08/american-composers-orchestra_processed_689dea39c4f7fbe8833232cd5b84baa63a8cab9a0f888788dffb567284afa447_logo.png
END:VEVENT
BEGIN:VEVENT
DTSTART;TZID=America/Los_Angeles:20241213T193000
DTEND;TZID=America/Los_Angeles:20241213T213000
DTSTAMP:20260423T174517
CREATED:20240801T033024Z
LAST-MODIFIED:20240801T215303Z
UID:3476-1734118200-1734125400@tommymesa.com
SUMMARY:Tucson Symphony Orchestra
DESCRIPTION:Tommy Mesa\, cello / Francesco Lecce-Chong\, conductor / Joseph Haydn: Cello Concerto No. 1 / Jessie Montgomery: Divided  
URL:https://tommymesa.com/event/tucson-symphony-orchestra/
LOCATION:Linda Ronstadt Music Hall\, 260 S Church Ave\, Tucson\, AZ\, 85401\, United States
ATTACH;FMTTYPE=image/png:https://tommymesa.com/wp-content/uploads/2024/07/tucson.png
END:VEVENT
BEGIN:VEVENT
DTSTART;TZID=America/Los_Angeles:20241215T140000
DTEND;TZID=America/Los_Angeles:20241215T160000
DTSTAMP:20260423T174517
CREATED:20240801T033129Z
LAST-MODIFIED:20240801T215341Z
UID:3480-1734271200-1734278400@tommymesa.com
SUMMARY:Tucson Symphony Orchestra
DESCRIPTION:Tommy Mesa\, cello / Francesco Lecce-Chong\, conductor / Joseph Haydn: Cello Concerto No. 1 / Jessie Montgomery: Divided 
URL:https://tommymesa.com/event/tucson-symphony-orchestra-2/
LOCATION:Linda Ronstadt Music Hall\, 260 S Church Ave\, Tucson\, AZ\, 85401\, United States
ATTACH;FMTTYPE=image/png:https://tommymesa.com/wp-content/uploads/2024/07/tucson.png
END:VEVENT
END:VCALENDAR