BEGIN:VCALENDAR
VERSION:2.0
PRODID:-//Tommy Mesa - ECPv6.15.20//NONSGML v1.0//EN
CALSCALE:GREGORIAN
METHOD:PUBLISH
X-ORIGINAL-URL:https://tommymesa.com
X-WR-CALDESC:Events for Tommy Mesa
REFRESH-INTERVAL;VALUE=DURATION:PT1H
X-Robots-Tag:noindex
X-PUBLISHED-TTL:PT1H
BEGIN:VTIMEZONE
TZID:America/Los_Angeles
BEGIN:DAYLIGHT
TZOFFSETFROM:-0800
TZOFFSETTO:-0700
TZNAME:PDT
DTSTART:20230312T100000
END:DAYLIGHT
BEGIN:STANDARD
TZOFFSETFROM:-0700
TZOFFSETTO:-0800
TZNAME:PST
DTSTART:20231105T090000
END:STANDARD
BEGIN:DAYLIGHT
TZOFFSETFROM:-0800
TZOFFSETTO:-0700
TZNAME:PDT
DTSTART:20240310T100000
END:DAYLIGHT
BEGIN:STANDARD
TZOFFSETFROM:-0700
TZOFFSETTO:-0800
TZNAME:PST
DTSTART:20241103T090000
END:STANDARD
BEGIN:DAYLIGHT
TZOFFSETFROM:-0800
TZOFFSETTO:-0700
TZNAME:PDT
DTSTART:20250309T100000
END:DAYLIGHT
BEGIN:STANDARD
TZOFFSETFROM:-0700
TZOFFSETTO:-0800
TZNAME:PST
DTSTART:20251102T090000
END:STANDARD
END:VTIMEZONE
BEGIN:VEVENT
DTSTART;TZID=America/Los_Angeles:20241102T193000
DTEND;TZID=America/Los_Angeles:20241102T210000
DTSTAMP:20260423T121118
CREATED:20240730T225414Z
LAST-MODIFIED:20240730T230014Z
UID:3377-1730575800-1730581200@tommymesa.com
SUMMARY:Tucson Symphony Orchestra: 2024-2025 Artist in Residence
DESCRIPTION:Cuban-American Cellist and Artist in Residence Tommy Mesa presents a program of cello-centric music featuring \nAndrea Casarrubios: Seven for solo cello / \nCaroline Shaw: Limestone and Felt / \nFranz Schubert: Cello Quintet in C major
URL:https://tommymesa.com/event/artist-in-residence-tucson-symphony-orchestra/
LOCATION:Tucson Symphony Center\, 2175 N 6th Ave\, Tucson\, AZ\, 85705\, United States
ATTACH;FMTTYPE=image/png:https://tommymesa.com/wp-content/uploads/2024/07/tucson-symphony.png
END:VEVENT
BEGIN:VEVENT
DTSTART;TZID=America/Los_Angeles:20241103T140000
DTEND;TZID=America/Los_Angeles:20241103T170000
DTSTAMP:20260423T121118
CREATED:20240730T225724Z
LAST-MODIFIED:20240730T225935Z
UID:3382-1730642400-1730653200@tommymesa.com
SUMMARY:Tucson Symphony Orchestra: 2024-2025 Artist in Residence
DESCRIPTION:Cuban-American Artist in Residence Tommy Mesa presents a program of cello-centric music featuring \nAndrea Casarrubios: Seven for solo cello / \nCaroline Shaw: Limestone and Felt / \nFranz Schubert: Cello Quintet in C major
URL:https://tommymesa.com/event/artist-in-residence-tucson-symphony-orchestra-2/
LOCATION:Tucson Symphony Center\, 2175 N 6th Ave\, Tucson\, AZ\, 85705\, United States
ATTACH;FMTTYPE=image/png:https://tommymesa.com/wp-content/uploads/2024/07/tucson-symphony.png
END:VEVENT
BEGIN:VEVENT
DTSTART;TZID=America/Los_Angeles:20241115T193000
DTEND;TZID=America/Los_Angeles:20241115T213000
DTSTAMP:20260423T121118
CREATED:20240730T230754Z
LAST-MODIFIED:20240801T215157Z
UID:3390-1731699000-1731706200@tommymesa.com
SUMMARY:Delaware Symphony Orchestra
DESCRIPTION:Tommy Mesa\, cello / Filippo Ciabatti\, conductor / Shostakovich Concerto No. 1 in Eb major\, Op. 107
URL:https://tommymesa.com/event/delaware-symphony-orchestra/
LOCATION:The Grand Opera House\, 818 N King St\, Wilmington\, DE\, 19801\, United States
ATTACH;FMTTYPE=image/jpeg:https://tommymesa.com/wp-content/uploads/2024/07/delaware-symphony.jpeg
END:VEVENT
BEGIN:VEVENT
DTSTART;TZID=America/Los_Angeles:20241117T143000
DTEND;TZID=America/Los_Angeles:20241117T173000
DTSTAMP:20260423T121118
CREATED:20240730T231116Z
LAST-MODIFIED:20240801T215221Z
UID:3394-1731853800-1731864600@tommymesa.com
SUMMARY:Delaware Symphony Orchestra
DESCRIPTION:Tommy Mesa\, cello / Filippo Ciabatti\, conductor / Shostakovich Concerto No. 1 in Eb major\, Op. 107
URL:https://tommymesa.com/event/delaware-symphony-orchestra-2/
LOCATION:Cape Henlopen High School\, 1250 Kings Hwy\, Lewes\, DE\, 19958\, United States
ATTACH;FMTTYPE=image/jpeg:https://tommymesa.com/wp-content/uploads/2024/07/delaware-symphony.jpeg
END:VEVENT
BEGIN:VEVENT
DTSTART;TZID=America/Los_Angeles:20241124T150000
DTEND;TZID=America/Los_Angeles:20241124T170000
DTSTAMP:20260423T121118
CREATED:20240914T161533Z
LAST-MODIFIED:20240914T161533Z
UID:3591-1732460400-1732467600@tommymesa.com
SUMMARY:Cello/Organ Recital in Sun City West
DESCRIPTION:Tommy Mesa\, cello; Greg Zelek\, organ; Recital program of Cello/Organ works at Our Lady of Lourdes Catholic Church in Sun City West\, Arizona.
URL:https://tommymesa.com/event/cello-organ-recital-in-sun-city-west/
LOCATION:Our Lady of Lourdes Catholic Parish\, 19002 N 128th Ave\, Sun City West\, AZ\, 85375\, United States
ATTACH;FMTTYPE=image/jpeg:https://tommymesa.com/wp-content/uploads/2021/07/Virtual-Astral-Artists-Organ-and-Cello-Concert-Thomas-Mesa-GREG-ZELEK.jpg
END:VEVENT
END:VCALENDAR