BEGIN:VCALENDAR
VERSION:2.0
PRODID:-//Tommy Mesa - ECPv6.15.20//NONSGML v1.0//EN
CALSCALE:GREGORIAN
METHOD:PUBLISH
X-WR-CALNAME:Tommy Mesa
X-ORIGINAL-URL:https://tommymesa.com
X-WR-CALDESC:Events for Tommy Mesa
REFRESH-INTERVAL;VALUE=DURATION:PT1H
X-Robots-Tag:noindex
X-PUBLISHED-TTL:PT1H
BEGIN:VTIMEZONE
TZID:America/Los_Angeles
BEGIN:DAYLIGHT
TZOFFSETFROM:-0800
TZOFFSETTO:-0700
TZNAME:PDT
DTSTART:20240310T100000
END:DAYLIGHT
BEGIN:STANDARD
TZOFFSETFROM:-0700
TZOFFSETTO:-0800
TZNAME:PST
DTSTART:20241103T090000
END:STANDARD
BEGIN:DAYLIGHT
TZOFFSETFROM:-0800
TZOFFSETTO:-0700
TZNAME:PDT
DTSTART:20250309T100000
END:DAYLIGHT
BEGIN:STANDARD
TZOFFSETFROM:-0700
TZOFFSETTO:-0800
TZNAME:PST
DTSTART:20251102T090000
END:STANDARD
BEGIN:DAYLIGHT
TZOFFSETFROM:-0800
TZOFFSETTO:-0700
TZNAME:PDT
DTSTART:20260308T100000
END:DAYLIGHT
BEGIN:STANDARD
TZOFFSETFROM:-0700
TZOFFSETTO:-0800
TZNAME:PST
DTSTART:20261101T090000
END:STANDARD
END:VTIMEZONE
BEGIN:VEVENT
DTSTART;TZID=America/Los_Angeles:20250216T143000
DTEND;TZID=America/Los_Angeles:20250216T163000
DTSTAMP:20260424T125155
CREATED:20240801T021503Z
LAST-MODIFIED:20240801T021503Z
UID:3432-1739716200-1739723400@tommymesa.com
SUMMARY:Chamber Orchestra of Philadelphia
DESCRIPTION:Haydn Cello Concerto No. 1 in C major\, Hob. VIIb/1 / Montgomery Divided / David Hayes\, conductor / Tommy Mesa\, cello
URL:https://tommymesa.com/event/chamber-orchestra-of-philadelphia-2/
LOCATION:Perelman Theater at Kimmel Center\, 300 S. Broad St.\, Philadelphia\, PA\, 19102\, United States
ATTACH;FMTTYPE=image/jpeg:https://tommymesa.com/wp-content/uploads/2024/07/copcop.jpeg
END:VEVENT
END:VCALENDAR