BEGIN:VCALENDAR
VERSION:2.0
PRODID:-//Tommy Mesa - ECPv6.15.20//NONSGML v1.0//EN
CALSCALE:GREGORIAN
METHOD:PUBLISH
X-ORIGINAL-URL:https://tommymesa.com
X-WR-CALDESC:Events for Tommy Mesa
REFRESH-INTERVAL;VALUE=DURATION:PT1H
X-Robots-Tag:noindex
X-PUBLISHED-TTL:PT1H
BEGIN:VTIMEZONE
TZID:America/Los_Angeles
BEGIN:DAYLIGHT
TZOFFSETFROM:-0800
TZOFFSETTO:-0700
TZNAME:PDT
DTSTART:20240310T100000
END:DAYLIGHT
BEGIN:STANDARD
TZOFFSETFROM:-0700
TZOFFSETTO:-0800
TZNAME:PST
DTSTART:20241103T090000
END:STANDARD
BEGIN:DAYLIGHT
TZOFFSETFROM:-0800
TZOFFSETTO:-0700
TZNAME:PDT
DTSTART:20250309T100000
END:DAYLIGHT
BEGIN:STANDARD
TZOFFSETFROM:-0700
TZOFFSETTO:-0800
TZNAME:PST
DTSTART:20251102T090000
END:STANDARD
BEGIN:DAYLIGHT
TZOFFSETFROM:-0800
TZOFFSETTO:-0700
TZNAME:PDT
DTSTART:20260308T100000
END:DAYLIGHT
BEGIN:STANDARD
TZOFFSETFROM:-0700
TZOFFSETTO:-0800
TZNAME:PST
DTSTART:20261101T090000
END:STANDARD
END:VTIMEZONE
BEGIN:VEVENT
DTSTART;TZID=America/Los_Angeles:20250131T193000
DTEND;TZID=America/Los_Angeles:20250131T213000
DTSTAMP:20260424T001749
CREATED:20240801T022123Z
LAST-MODIFIED:20240801T211537Z
UID:3434-1738351800-1738359000@tommymesa.com
SUMMARY:Lane Series at the University of Vermont
DESCRIPTION:Tommy Mesa\, cello / Michelle Cann\, piano / Robert Schumann: Fantasiestücke\, Op. 73 / Beethoven: Sonata No. 3 in A major\, Op. 69 / Rachmaninoff: Sonata for cello and piano in G minor\, Op. 19
URL:https://tommymesa.com/event/lane-series-at-the-university-of-vermont/
LOCATION:University of Vermont Recital Hall\, 392 S. Prospect St.\, Burlington\, VT\, 05405\, United States
ATTACH;FMTTYPE=image/jpeg:https://tommymesa.com/wp-content/uploads/2024/07/lane-series.jpeg
END:VEVENT
END:VCALENDAR