BEGIN:VCALENDAR
VERSION:2.0
PRODID:-//Tommy Mesa - ECPv6.15.20//NONSGML v1.0//EN
CALSCALE:GREGORIAN
METHOD:PUBLISH
X-ORIGINAL-URL:https://tommymesa.com
X-WR-CALDESC:Events for Tommy Mesa
REFRESH-INTERVAL;VALUE=DURATION:PT1H
X-Robots-Tag:noindex
X-PUBLISHED-TTL:PT1H
BEGIN:VTIMEZONE
TZID:America/Los_Angeles
BEGIN:DAYLIGHT
TZOFFSETFROM:-0800
TZOFFSETTO:-0700
TZNAME:PDT
DTSTART:20240310T100000
END:DAYLIGHT
BEGIN:STANDARD
TZOFFSETFROM:-0700
TZOFFSETTO:-0800
TZNAME:PST
DTSTART:20241103T090000
END:STANDARD
BEGIN:DAYLIGHT
TZOFFSETFROM:-0800
TZOFFSETTO:-0700
TZNAME:PDT
DTSTART:20250309T100000
END:DAYLIGHT
BEGIN:STANDARD
TZOFFSETFROM:-0700
TZOFFSETTO:-0800
TZNAME:PST
DTSTART:20251102T090000
END:STANDARD
BEGIN:DAYLIGHT
TZOFFSETFROM:-0800
TZOFFSETTO:-0700
TZNAME:PDT
DTSTART:20260308T100000
END:DAYLIGHT
BEGIN:STANDARD
TZOFFSETFROM:-0700
TZOFFSETTO:-0800
TZNAME:PST
DTSTART:20261101T090000
END:STANDARD
END:VTIMEZONE
BEGIN:VEVENT
DTSTART;TZID=America/Los_Angeles:20250126T160000
DTEND;TZID=America/Los_Angeles:20250126T180000
DTSTAMP:20260423T204719
CREATED:20240731T153711Z
LAST-MODIFIED:20240731T153711Z
UID:3416-1737907200-1737914400@tommymesa.com
SUMMARY:Schubert Club Recital
DESCRIPTION:NADIA BOULANGER\n3 Pieces for Cello and Piano / \nCLAUDE DEBUSSY\nSonata in D Minor / \nKEVIN DAY\nSonata for Cello and Piano / \nANDREA CASARRUBIOS\nMensajes del agua / \nDIMITRI SHOSTAKOVICH\nCello Sonata in D minor\, Op. 40
URL:https://tommymesa.com/event/schubert-club-recital/
LOCATION:Saint Anthony Park United Church of Chris\, 2129 Commonwealth Avenue\, St. Paul\, MN\, 55108\, United States
ATTACH;FMTTYPE=image/jpeg:https://tommymesa.com/wp-content/uploads/2024/07/michelle-schuber.jpeg
END:VEVENT
END:VCALENDAR