BEGIN:VCALENDAR
VERSION:2.0
PRODID:-//Tommy Mesa - ECPv6.15.20//NONSGML v1.0//EN
CALSCALE:GREGORIAN
METHOD:PUBLISH
X-WR-CALNAME:Tommy Mesa
X-ORIGINAL-URL:https://tommymesa.com
X-WR-CALDESC:Events for Tommy Mesa
REFRESH-INTERVAL;VALUE=DURATION:PT1H
X-Robots-Tag:noindex
X-PUBLISHED-TTL:PT1H
BEGIN:VTIMEZONE
TZID:America/Los_Angeles
BEGIN:DAYLIGHT
TZOFFSETFROM:-0800
TZOFFSETTO:-0700
TZNAME:PDT
DTSTART:20230312T100000
END:DAYLIGHT
BEGIN:STANDARD
TZOFFSETFROM:-0700
TZOFFSETTO:-0800
TZNAME:PST
DTSTART:20231105T090000
END:STANDARD
BEGIN:DAYLIGHT
TZOFFSETFROM:-0800
TZOFFSETTO:-0700
TZNAME:PDT
DTSTART:20240310T100000
END:DAYLIGHT
BEGIN:STANDARD
TZOFFSETFROM:-0700
TZOFFSETTO:-0800
TZNAME:PST
DTSTART:20241103T090000
END:STANDARD
BEGIN:DAYLIGHT
TZOFFSETFROM:-0800
TZOFFSETTO:-0700
TZNAME:PDT
DTSTART:20250309T100000
END:DAYLIGHT
BEGIN:STANDARD
TZOFFSETFROM:-0700
TZOFFSETTO:-0800
TZNAME:PST
DTSTART:20251102T090000
END:STANDARD
END:VTIMEZONE
BEGIN:VEVENT
DTSTART;TZID=America/Los_Angeles:20241213T193000
DTEND;TZID=America/Los_Angeles:20241213T213000
DTSTAMP:20260423T192807
CREATED:20240801T033024Z
LAST-MODIFIED:20240801T215303Z
UID:3476-1734118200-1734125400@tommymesa.com
SUMMARY:Tucson Symphony Orchestra
DESCRIPTION:Tommy Mesa\, cello / Francesco Lecce-Chong\, conductor / Joseph Haydn: Cello Concerto No. 1 / Jessie Montgomery: Divided  
URL:https://tommymesa.com/event/tucson-symphony-orchestra/
LOCATION:Linda Ronstadt Music Hall\, 260 S Church Ave\, Tucson\, AZ\, 85401\, United States
ATTACH;FMTTYPE=image/png:https://tommymesa.com/wp-content/uploads/2024/07/tucson.png
END:VEVENT
END:VCALENDAR